Package: VCFArray Version: 1.27.0 Command: /home/biocbuild/bbs-3.23-bioc/R/bin/R CMD build --keep-empty-dirs --no-resave-data VCFArray StartedAt: 2025-11-19 20:42:46 -0500 (Wed, 19 Nov 2025) EndedAt: 2025-11-19 20:43:58 -0500 (Wed, 19 Nov 2025) EllapsedTime: 72.1 seconds RetCode: 0 Status: OK PackageFile: VCFArray_1.27.0.tar.gz PackageFileSize: 302.7 KiB