Package: VCFArray Version: 1.27.0 Command: /home/biocbuild/bbs-3.23-bioc/R/bin/R CMD INSTALL VCFArray StartedAt: 2025-11-19 16:01:27 -0500 (Wed, 19 Nov 2025) EndedAt: 2025-11-19 16:02:09 -0500 (Wed, 19 Nov 2025) EllapsedTime: 42.4 seconds RetCode: 0 Status: OK