Package: VariantAnnotation Version: 1.57.0 Command: /Library/Frameworks/R.framework/Resources/bin/R CMD INSTALL VariantAnnotation StartedAt: 2025-11-19 15:21:51 -0500 (Wed, 19 Nov 2025) EndedAt: 2025-11-19 15:22:19 -0500 (Wed, 19 Nov 2025) EllapsedTime: 28.4 seconds RetCode: 0 Status: OK