Package: VariantAnnotation Version: 1.57.0 Command: rm -rf VariantAnnotation.buildbin-libdir && mkdir VariantAnnotation.buildbin-libdir && /Users/biocbuild/BBS/utils/build-universal.sh VariantAnnotation_1.57.0.tar.gz /Library/Frameworks/R.framework/Resources/bin/R VariantAnnotation.buildbin-libdir StartedAt: 2025-11-20 02:02:24 -0500 (Thu, 20 Nov 2025) EndedAt: 2025-11-20 02:03:57 -0500 (Thu, 20 Nov 2025) EllapsedTime: 93.6 seconds RetCode: 0 Status: OK PackageFile: VariantAnnotation_1.57.0.tgz PackageFileSize: 4.401 MiB