Package: VariantAnnotation Version: 1.57.0 Command: /Library/Frameworks/R.framework/Resources/bin/R CMD build --keep-empty-dirs --no-resave-data VariantAnnotation StartedAt: 2025-11-19 19:07:36 -0500 (Wed, 19 Nov 2025) EndedAt: 2025-11-19 19:11:24 -0500 (Wed, 19 Nov 2025) EllapsedTime: 228.7 seconds RetCode: 0 Status: OK PackageFile: VariantAnnotation_1.57.0.tar.gz PackageFileSize: 2.024 MiB