Package: VariantAnnotation Version: 1.57.0 Command: /Library/Frameworks/R.framework/Resources/bin/R CMD INSTALL VariantAnnotation StartedAt: 2025-11-19 15:41:02 -0500 (Wed, 19 Nov 2025) EndedAt: 2025-11-19 15:42:37 -0500 (Wed, 19 Nov 2025) EllapsedTime: 94.8 seconds RetCode: 0 Status: OK