Package: VariantAnnotation Version: 1.57.0 Command: /home/biocbuild/bbs-3.23-bioc/R/bin/R CMD build --keep-empty-dirs --no-resave-data VariantAnnotation StartedAt: 2025-11-19 20:41:46 -0500 (Wed, 19 Nov 2025) EndedAt: 2025-11-19 20:44:42 -0500 (Wed, 19 Nov 2025) EllapsedTime: 176.1 seconds RetCode: 0 Status: OK PackageFile: VariantAnnotation_1.57.0.tar.gz PackageFileSize: 2.045 MiB