Package: VariantAnnotation Version: 1.57.0 Command: /home/biocbuild/bbs-3.23-bioc/R/bin/R CMD INSTALL VariantAnnotation StartedAt: 2025-11-19 15:42:13 -0500 (Wed, 19 Nov 2025) EndedAt: 2025-11-19 15:43:24 -0500 (Wed, 19 Nov 2025) EllapsedTime: 70.3 seconds RetCode: 0 Status: OK