Package: VariantTools Version: 1.53.0 Command: /Library/Frameworks/R.framework/Resources/bin/R CMD build --keep-empty-dirs --no-resave-data VariantTools StartedAt: 2025-11-19 18:03:43 -0500 (Wed, 19 Nov 2025) EndedAt: 2025-11-19 18:04:11 -0500 (Wed, 19 Nov 2025) EllapsedTime: 28.3 seconds RetCode: 0 Status: OK PackageFile: VariantTools_1.53.0.tar.gz PackageFileSize: 5.968 MiB