Package: VariantTools Version: 1.53.0 Command: /Library/Frameworks/R.framework/Resources/bin/R CMD INSTALL VariantTools StartedAt: 2025-11-18 15:33:02 -0500 (Tue, 18 Nov 2025) EndedAt: 2025-11-18 15:33:19 -0500 (Tue, 18 Nov 2025) EllapsedTime: 17.3 seconds RetCode: 0 Status: OK