Package: VariantTools Version: 1.53.0 Command: /Library/Frameworks/R.framework/Resources/bin/R CMD INSTALL VariantTools StartedAt: 2025-11-18 15:41:09 -0500 (Tue, 18 Nov 2025) EndedAt: 2025-11-18 15:42:04 -0500 (Tue, 18 Nov 2025) EllapsedTime: 54.4 seconds RetCode: 0 Status: OK