Package: VariantTools Version: 1.53.0 Command: /home/biocbuild/bbs-3.23-bioc/R/bin/R CMD build --keep-empty-dirs --no-resave-data VariantTools StartedAt: 2025-11-19 20:42:12 -0500 (Wed, 19 Nov 2025) EndedAt: 2025-11-19 20:43:10 -0500 (Wed, 19 Nov 2025) EllapsedTime: 58.0 seconds RetCode: 1 Status: ERROR PackageFile: None PackageFileSize: NA