Package: VariantTools Version: 1.53.0 Command: /home/biocbuild/bbs-3.23-bioc/R/bin/R CMD INSTALL VariantTools StartedAt: 2025-11-18 16:35:18 -0500 (Tue, 18 Nov 2025) EndedAt: 2025-11-18 16:35:59 -0500 (Tue, 18 Nov 2025) EllapsedTime: 40.9 seconds RetCode: 0 Status: OK