Package: VplotR Version: 1.21.0 Command: /Library/Frameworks/R.framework/Resources/bin/R CMD build --keep-empty-dirs --no-resave-data VplotR StartedAt: 2025-11-19 18:05:23 -0500 (Wed, 19 Nov 2025) EndedAt: 2025-11-19 18:06:18 -0500 (Wed, 19 Nov 2025) EllapsedTime: 54.6 seconds RetCode: 0 Status: OK PackageFile: VplotR_1.21.0.tar.gz PackageFileSize: 5.162 MiB