Package: VplotR Version: 1.21.0 Command: /Library/Frameworks/R.framework/Resources/bin/R CMD INSTALL VplotR StartedAt: 2025-11-19 15:27:05 -0500 (Wed, 19 Nov 2025) EndedAt: 2025-11-19 15:27:17 -0500 (Wed, 19 Nov 2025) EllapsedTime: 12.4 seconds RetCode: 0 Status: OK