Package: VplotR Version: 1.21.0 Command: rm -rf VplotR.buildbin-libdir && mkdir VplotR.buildbin-libdir && /Users/biocbuild/BBS/utils/build-universal.sh VplotR_1.21.0.tar.gz /Library/Frameworks/R.framework/Resources/bin/R VplotR.buildbin-libdir StartedAt: 2025-11-19 01:58:35 -0500 (Wed, 19 Nov 2025) EndedAt: 2025-11-19 01:59:19 -0500 (Wed, 19 Nov 2025) EllapsedTime: 44.9 seconds RetCode: 0 Status: OK PackageFile: VplotR_1.21.0.tgz PackageFileSize: 5.276 MiB