Package: VplotR Version: 1.21.0 Command: /Library/Frameworks/R.framework/Resources/bin/R CMD build --keep-empty-dirs --no-resave-data VplotR StartedAt: 2025-11-18 19:05:51 -0500 (Tue, 18 Nov 2025) EndedAt: 2025-11-18 19:07:59 -0500 (Tue, 18 Nov 2025) EllapsedTime: 127.9 seconds RetCode: 0 Status: OK PackageFile: VplotR_1.21.0.tar.gz PackageFileSize: 5.161 MiB