Package: VplotR Version: 1.21.0 Command: /Library/Frameworks/R.framework/Resources/bin/R CMD INSTALL VplotR StartedAt: 2025-11-18 15:44:07 -0500 (Tue, 18 Nov 2025) EndedAt: 2025-11-18 15:44:49 -0500 (Tue, 18 Nov 2025) EllapsedTime: 41.5 seconds RetCode: 0 Status: OK