Package: VplotR Version: 1.21.0 Command: /home/biocbuild/bbs-3.23-bioc/R/bin/R CMD build --keep-empty-dirs --no-resave-data VplotR StartedAt: 2025-11-18 21:33:54 -0500 (Tue, 18 Nov 2025) EndedAt: 2025-11-18 21:35:41 -0500 (Tue, 18 Nov 2025) EllapsedTime: 107.1 seconds RetCode: 0 Status: OK PackageFile: VplotR_1.21.0.tar.gz PackageFileSize: 5.153 MiB