Package: VplotR Version: 1.21.0 Command: /home/biocbuild/bbs-3.23-bioc/R/bin/R CMD INSTALL VplotR StartedAt: 2025-11-18 16:42:44 -0500 (Tue, 18 Nov 2025) EndedAt: 2025-11-18 16:43:15 -0500 (Tue, 18 Nov 2025) EllapsedTime: 31.4 seconds RetCode: 0 Status: OK