Package: XeniumIO Version: 1.3.0 Command: /Library/Frameworks/R.framework/Resources/bin/R CMD build --keep-empty-dirs --no-resave-data XeniumIO StartedAt: 2025-11-18 18:17:18 -0500 (Tue, 18 Nov 2025) EndedAt: 2025-11-18 18:17:36 -0500 (Tue, 18 Nov 2025) EllapsedTime: 18.2 seconds RetCode: 0 Status: OK PackageFile: XeniumIO_1.3.0.tar.gz PackageFileSize: 229.4 KiB