Package: XeniumIO Version: 1.3.0 Command: rm -rf XeniumIO.buildbin-libdir && mkdir XeniumIO.buildbin-libdir && /Users/biocbuild/BBS/utils/build-universal.sh XeniumIO_1.3.0.tar.gz /Library/Frameworks/R.framework/Resources/bin/R XeniumIO.buildbin-libdir StartedAt: 2025-11-21 02:03:50 -0500 (Fri, 21 Nov 2025) EndedAt: 2025-11-21 02:04:25 -0500 (Fri, 21 Nov 2025) EllapsedTime: 35.2 seconds RetCode: 0 Status: OK PackageFile: XeniumIO_1.3.0.tgz PackageFileSize: 276.6 KiB