Package: XeniumIO Version: 1.3.0 Command: /Library/Frameworks/R.framework/Resources/bin/R CMD build --keep-empty-dirs --no-resave-data XeniumIO StartedAt: 2025-11-20 19:10:16 -0500 (Thu, 20 Nov 2025) EndedAt: 2025-11-20 19:11:00 -0500 (Thu, 20 Nov 2025) EllapsedTime: 43.4 seconds RetCode: 0 Status: OK PackageFile: XeniumIO_1.3.0.tar.gz PackageFileSize: 229.3 KiB