Package: XeniumIO Version: 1.3.0 Command: /Library/Frameworks/R.framework/Resources/bin/R CMD INSTALL XeniumIO StartedAt: 2025-11-20 15:39:51 -0500 (Thu, 20 Nov 2025) EndedAt: 2025-11-20 15:40:26 -0500 (Thu, 20 Nov 2025) EllapsedTime: 34.7 seconds RetCode: 0 Status: OK