Package: XeniumIO Version: 1.3.0 Command: /home/biocbuild/bbs-3.23-bioc/R/bin/R CMD INSTALL XeniumIO StartedAt: 2025-11-25 15:37:10 -0500 (Tue, 25 Nov 2025) EndedAt: 2025-11-25 15:37:35 -0500 (Tue, 25 Nov 2025) EllapsedTime: 24.7 seconds RetCode: 0 Status: OK