Package: a4Base Version: 1.59.0 Command: rm -rf a4Base.buildbin-libdir && mkdir a4Base.buildbin-libdir && /Users/biocbuild/BBS/utils/build-universal.sh a4Base_1.59.0.tar.gz /Library/Frameworks/R.framework/Resources/bin/R a4Base.buildbin-libdir StartedAt: 2025-11-18 23:30:06 -0500 (Tue, 18 Nov 2025) EndedAt: 2025-11-18 23:30:17 -0500 (Tue, 18 Nov 2025) EllapsedTime: 11.3 seconds RetCode: 0 Status: OK PackageFile: a4Base_1.59.0.tgz PackageFileSize: 572.7 KiB