Package: a4Base Version: 1.59.0 Command: /Library/Frameworks/R.framework/Resources/bin/R CMD build --keep-empty-dirs --no-resave-data a4Base StartedAt: 2025-11-18 15:45:32 -0500 (Tue, 18 Nov 2025) EndedAt: 2025-11-18 15:45:33 -0500 (Tue, 18 Nov 2025) EllapsedTime: 1.0 seconds RetCode: 0 Status: OK PackageFile: a4Base_1.59.0.tar.gz PackageFileSize: 366.5 KiB