Package: a4Base Version: 1.59.0 Command: /Library/Frameworks/R.framework/Resources/bin/R CMD INSTALL a4Base StartedAt: 2025-11-18 15:36:08 -0500 (Tue, 18 Nov 2025) EndedAt: 2025-11-18 15:36:16 -0500 (Tue, 18 Nov 2025) EllapsedTime: 8.4 seconds RetCode: 0 Status: OK