Package: aggregateBioVar Version: 1.21.0 Command: /Library/Frameworks/R.framework/Resources/bin/R CMD build --keep-empty-dirs --no-resave-data aggregateBioVar StartedAt: 2025-11-19 15:37:02 -0500 (Wed, 19 Nov 2025) EndedAt: 2025-11-19 15:37:33 -0500 (Wed, 19 Nov 2025) EllapsedTime: 31.3 seconds RetCode: 0 Status: OK PackageFile: aggregateBioVar_1.21.0.tar.gz PackageFileSize: 1.257 MiB