Package: aggregateBioVar Version: 1.21.0 Command: /Library/Frameworks/R.framework/Resources/bin/R CMD INSTALL aggregateBioVar StartedAt: 2025-11-18 15:24:30 -0500 (Tue, 18 Nov 2025) EndedAt: 2025-11-18 15:25:00 -0500 (Tue, 18 Nov 2025) EllapsedTime: 29.8 seconds RetCode: 0 Status: OK