Package: aggregateBioVar Version: 1.21.0 Command: /home/biocbuild/bbs-3.23-bioc/R/bin/R CMD build --keep-empty-dirs --no-resave-data aggregateBioVar StartedAt: 2025-11-19 16:11:51 -0500 (Wed, 19 Nov 2025) EndedAt: 2025-11-19 16:13:11 -0500 (Wed, 19 Nov 2025) EllapsedTime: 80.1 seconds RetCode: 0 Status: OK PackageFile: aggregateBioVar_1.21.0.tar.gz PackageFileSize: 1.242 MiB