Package: alabaster.matrix Version: 1.11.0 Command: rm -rf alabaster.matrix.buildbin-libdir && mkdir alabaster.matrix.buildbin-libdir && /Users/biocbuild/BBS/utils/build-universal.sh alabaster.matrix_1.11.0.tar.gz /Library/Frameworks/R.framework/Resources/bin/R alabaster.matrix.buildbin-libdir StartedAt: 2025-11-18 23:30:23 -0500 (Tue, 18 Nov 2025) EndedAt: 2025-11-18 23:30:37 -0500 (Tue, 18 Nov 2025) EllapsedTime: 14.2 seconds RetCode: 0 Status: OK PackageFile: alabaster.matrix_1.11.0.tgz PackageFileSize: 734 KiB