Package: alabaster.matrix Version: 1.11.0 Command: /Library/Frameworks/R.framework/Resources/bin/R CMD build --keep-empty-dirs --no-resave-data alabaster.matrix StartedAt: 2025-11-18 15:46:33 -0500 (Tue, 18 Nov 2025) EndedAt: 2025-11-18 15:46:47 -0500 (Tue, 18 Nov 2025) EllapsedTime: 14.2 seconds RetCode: 0 Status: OK PackageFile: alabaster.matrix_1.11.0.tar.gz PackageFileSize: 274.3 KiB