Package: alabaster.matrix Version: 1.11.0 Command: /Library/Frameworks/R.framework/Resources/bin/R CMD INSTALL alabaster.matrix StartedAt: 2025-11-18 15:21:10 -0500 (Tue, 18 Nov 2025) EndedAt: 2025-11-18 15:21:21 -0500 (Tue, 18 Nov 2025) EllapsedTime: 11.3 seconds RetCode: 0 Status: OK