Package: annotate Version: 1.89.0 Command: rm -rf annotate.buildbin-libdir && mkdir annotate.buildbin-libdir && /Users/biocbuild/BBS/utils/build-universal.sh annotate_1.89.0.tar.gz /Library/Frameworks/R.framework/Resources/bin/R annotate.buildbin-libdir StartedAt: 2025-11-19 23:23:50 -0500 (Wed, 19 Nov 2025) EndedAt: 2025-11-19 23:23:59 -0500 (Wed, 19 Nov 2025) EllapsedTime: 9.2 seconds RetCode: 0 Status: OK PackageFile: annotate_1.89.0.tgz PackageFileSize: 2.082 MiB