Package: annotate Version: 1.89.0 Command: /Library/Frameworks/R.framework/Resources/bin/R CMD build --keep-empty-dirs --no-resave-data annotate StartedAt: 2025-11-19 15:38:34 -0500 (Wed, 19 Nov 2025) EndedAt: 2025-11-19 15:39:08 -0500 (Wed, 19 Nov 2025) EllapsedTime: 34.4 seconds RetCode: 0 Status: OK PackageFile: annotate_1.89.0.tar.gz PackageFileSize: 1.786 MiB