Package: annotate Version: 1.89.0 Command: /Library/Frameworks/R.framework/Resources/bin/R CMD INSTALL annotate StartedAt: 2025-11-19 15:10:35 -0500 (Wed, 19 Nov 2025) EndedAt: 2025-11-19 15:10:41 -0500 (Wed, 19 Nov 2025) EllapsedTime: 6.1 seconds RetCode: 0 Status: OK