Package: annotate Version: 1.89.0 Command: /Library/Frameworks/R.framework/Resources/bin/R CMD build --keep-empty-dirs --no-resave-data annotate StartedAt: 2025-11-19 16:05:39 -0500 (Wed, 19 Nov 2025) EndedAt: 2025-11-19 16:07:10 -0500 (Wed, 19 Nov 2025) EllapsedTime: 90.5 seconds RetCode: 0 Status: OK PackageFile: annotate_1.89.0.tar.gz PackageFileSize: 1.784 MiB