Package: annotate Version: 1.89.0 Command: /home/biocbuild/bbs-3.23-bioc/R/bin/R CMD INSTALL annotate StartedAt: 2025-11-19 15:31:25 -0500 (Wed, 19 Nov 2025) EndedAt: 2025-11-19 15:31:42 -0500 (Wed, 19 Nov 2025) EllapsedTime: 17.5 seconds RetCode: 0 Status: OK