Package: annotatr Version: 1.37.0 Command: /Library/Frameworks/R.framework/Resources/bin/R CMD build --keep-empty-dirs --no-resave-data annotatr StartedAt: 2025-11-19 15:38:47 -0500 (Wed, 19 Nov 2025) EndedAt: 2025-11-19 15:39:59 -0500 (Wed, 19 Nov 2025) EllapsedTime: 71.9 seconds RetCode: 0 Status: OK PackageFile: annotatr_1.37.0.tar.gz PackageFileSize: 2.461 MiB