Package: annotatr Version: 1.37.0 Command: /Library/Frameworks/R.framework/Resources/bin/R CMD INSTALL annotatr StartedAt: 2025-11-18 15:32:27 -0500 (Tue, 18 Nov 2025) EndedAt: 2025-11-18 15:32:45 -0500 (Tue, 18 Nov 2025) EllapsedTime: 18.1 seconds RetCode: 0 Status: OK