Package: annotatr Version: 1.37.0 Command: rm -rf annotatr.buildbin-libdir && mkdir annotatr.buildbin-libdir && /Users/biocbuild/BBS/utils/build-universal.sh annotatr_1.37.0.tar.gz /Library/Frameworks/R.framework/Resources/bin/R annotatr.buildbin-libdir StartedAt: 2025-11-20 01:21:02 -0500 (Thu, 20 Nov 2025) EndedAt: 2025-11-20 01:22:04 -0500 (Thu, 20 Nov 2025) EllapsedTime: 61.2 seconds RetCode: 0 Status: OK PackageFile: annotatr_1.37.0.tgz PackageFileSize: 2.685 MiB