Package: annotatr Version: 1.37.0 Command: /Library/Frameworks/R.framework/Resources/bin/R CMD INSTALL annotatr StartedAt: 2025-11-19 15:41:47 -0500 (Wed, 19 Nov 2025) EndedAt: 2025-11-19 15:42:42 -0500 (Wed, 19 Nov 2025) EllapsedTime: 55.8 seconds RetCode: 0 Status: OK