Package: annotatr Version: 1.37.0 Command: /home/biocbuild/bbs-3.23-bioc/R/bin/R CMD build --keep-empty-dirs --no-resave-data annotatr StartedAt: 2025-11-19 16:15:15 -0500 (Wed, 19 Nov 2025) EndedAt: 2025-11-19 16:17:51 -0500 (Wed, 19 Nov 2025) EllapsedTime: 156.2 seconds RetCode: 0 Status: OK PackageFile: annotatr_1.37.0.tar.gz PackageFileSize: 2.652 MiB