Package: annotatr Version: 1.37.0 Command: /home/biocbuild/bbs-3.23-bioc/R/bin/R CMD INSTALL annotatr StartedAt: 2025-11-18 16:34:16 -0500 (Tue, 18 Nov 2025) EndedAt: 2025-11-18 16:34:58 -0500 (Tue, 18 Nov 2025) EllapsedTime: 42.1 seconds RetCode: 0 Status: OK