Package: arrayMvout Version: 1.69.0 Command: rm -rf arrayMvout.buildbin-libdir && mkdir arrayMvout.buildbin-libdir && /Users/biocbuild/BBS/utils/build-universal.sh arrayMvout_1.69.0.tar.gz /Library/Frameworks/R.framework/Resources/bin/R arrayMvout.buildbin-libdir StartedAt: 2025-11-19 23:24:04 -0500 (Wed, 19 Nov 2025) EndedAt: 2025-11-19 23:24:29 -0500 (Wed, 19 Nov 2025) EllapsedTime: 24.6 seconds RetCode: 0 Status: OK PackageFile: arrayMvout_1.69.0.tgz PackageFileSize: 856.5 KiB