Package: arrayMvout Version: 1.69.0 Command: /Library/Frameworks/R.framework/Resources/bin/R CMD build --keep-empty-dirs --no-resave-data arrayMvout StartedAt: 2025-11-19 15:39:25 -0500 (Wed, 19 Nov 2025) EndedAt: 2025-11-19 15:39:53 -0500 (Wed, 19 Nov 2025) EllapsedTime: 28.3 seconds RetCode: 0 Status: OK PackageFile: arrayMvout_1.69.0.tar.gz PackageFileSize: 693.1 KiB