Package: arrayMvout Version: 1.69.0 Command: rm -rf arrayMvout.buildbin-libdir && mkdir arrayMvout.buildbin-libdir && /Users/biocbuild/BBS/utils/build-universal.sh arrayMvout_1.69.0.tar.gz /Library/Frameworks/R.framework/Resources/bin/R arrayMvout.buildbin-libdir StartedAt: 2025-11-20 01:21:16 -0500 (Thu, 20 Nov 2025) EndedAt: 2025-11-20 01:22:26 -0500 (Thu, 20 Nov 2025) EllapsedTime: 69.3 seconds RetCode: 0 Status: OK PackageFile: arrayMvout_1.69.0.tgz PackageFileSize: 855.9 KiB