Package: arrayMvout Version: 1.69.0 Command: /Library/Frameworks/R.framework/Resources/bin/R CMD INSTALL arrayMvout StartedAt: 2025-11-19 15:57:58 -0500 (Wed, 19 Nov 2025) EndedAt: 2025-11-19 15:58:37 -0500 (Wed, 19 Nov 2025) EllapsedTime: 38.9 seconds RetCode: 0 Status: OK