Package: arrayMvout Version: 1.69.0 Command: /home/biocbuild/bbs-3.23-bioc/R/bin/R CMD INSTALL arrayMvout StartedAt: 2025-11-19 16:04:42 -0500 (Wed, 19 Nov 2025) EndedAt: 2025-11-19 16:05:26 -0500 (Wed, 19 Nov 2025) EllapsedTime: 44.1 seconds RetCode: 0 Status: OK